BEGIN:VCALENDAR
VERSION:2.0
PRODID:spatie/icalendar-generator
DESCRIPTION:Veranstaltungen von Schwimmverband Rheinland e.V.
X-WR-CALDESC:Veranstaltungen von Schwimmverband Rheinland e.V.
REFRESH-INTERVAL;VALUE=DURATION:PT1440M
X-PUBLISHED-TTL:PT1440M
BEGIN:VTIMEZONE
TZID:Europe/Berlin
BEGIN:STANDARD
DTSTART:20241027T030000Z
TZOFFSETFROM:+0200
TZOFFSETTO:+0100
END:STANDARD
BEGIN:DAYLIGHT
DTSTART:20250330T020000Z
TZOFFSETFROM:+0100
TZOFFSETTO:+0200
END:DAYLIGHT
BEGIN:STANDARD
DTSTART:20251026T030000Z
TZOFFSETFROM:+0200
TZOFFSETTO:+0100
END:STANDARD
END:VTIMEZONE
BEGIN:VTIMEZONE
TZID:UTC
BEGIN:STANDARD
DTSTART:20250725T084530Z
TZOFFSETFROM:+0000
TZOFFSETTO:+0000
END:STANDARD
END:VTIMEZONE
BEGIN:VEVENT
UID:127-115
DTSTAMP:20260421T084530Z
SUMMARY:Schwimm-Mehrkampf des Süddeutschen Schwimm-Verbandes (schwimmerisc
 her Mehrkampf)
LOCATION:Stuttgart
ORGANIZER;CN=Vizepräsident Sport:MAILTO:vizepraesident-sport@svrheinland.d
 e
DTSTART;TZID=Europe/Berlin;VALUE=DATE:20250502
DTEND;TZID=Europe/Berlin;VALUE=DATE:20250505
X-ALT-DESC;FMTTYPE=TEXT/HTML:
CATEGORIES:Schwimmen
URL;VALUE=URI:https://svrheinland.de/mc-events/schwimm-mehrkampf-des-suedde
 utschen-schwimm-verbandes-schwimmerischer-mehrkampf/
METHOD:PUBLISH
END:VEVENT
END:VCALENDAR