BEGIN:VCALENDAR
VERSION:2.0
PRODID:spatie/icalendar-generator
DESCRIPTION:Veranstaltungen von Schwimmverband Rheinland e.V.
X-WR-CALDESC:Veranstaltungen von Schwimmverband Rheinland e.V.
REFRESH-INTERVAL;VALUE=DURATION:PT1440M
X-PUBLISHED-TTL:PT1440M
BEGIN:VTIMEZONE
TZID:Europe/Berlin
BEGIN:DAYLIGHT
DTSTART:20260329T020000Z
TZOFFSETFROM:+0100
TZOFFSETTO:+0200
END:DAYLIGHT
BEGIN:STANDARD
DTSTART:20261025T030000Z
TZOFFSETFROM:+0200
TZOFFSETTO:+0100
END:STANDARD
BEGIN:DAYLIGHT
DTSTART:20270328T020000Z
TZOFFSETFROM:+0100
TZOFFSETTO:+0200
END:DAYLIGHT
END:VTIMEZONE
BEGIN:VTIMEZONE
TZID:UTC
BEGIN:STANDARD
DTSTART:20250725T131826Z
TZOFFSETFROM:+0000
TZOFFSETTO:+0000
END:STANDARD
END:VTIMEZONE
BEGIN:VEVENT
UID:188-157
DTSTAMP:20260421T131826Z
SUMMARY:Weihnachtsschwimmfest 2026 in Koblenz
LOCATION:Koblenz
ORGANIZER;CN=Vizepräsident Sport:MAILTO:vizepraesident-sport@svrheinland.d
 e
DTSTART;TZID=Europe/Berlin;VALUE=DATE:20261205
DTEND;TZID=Europe/Berlin;VALUE=DATE:20261207
X-ALT-DESC;FMTTYPE=TEXT/HTML:
CATEGORIES:Schwimmen
URL;VALUE=URI:https://svrheinland.de/mc-events/weihnachtsschwimmfest-2026-i
 n-koblenz/
METHOD:PUBLISH
END:VEVENT
END:VCALENDAR