BEGIN:VCALENDAR
VERSION:2.0
PRODID:spatie/icalendar-generator
DESCRIPTION:Veranstaltungen von Schwimmverband Rheinland e.V.
X-WR-CALDESC:Veranstaltungen von Schwimmverband Rheinland e.V.
REFRESH-INTERVAL;VALUE=DURATION:PT1440M
X-PUBLISHED-TTL:PT1440M
BEGIN:VTIMEZONE
TZID:Europe/Berlin
BEGIN:DAYLIGHT
DTSTART:20230326T020000Z
TZOFFSETFROM:+0100
TZOFFSETTO:+0200
END:DAYLIGHT
BEGIN:STANDARD
DTSTART:20231029T030000Z
TZOFFSETFROM:+0200
TZOFFSETTO:+0100
END:STANDARD
BEGIN:DAYLIGHT
DTSTART:20240331T020000Z
TZOFFSETFROM:+0100
TZOFFSETTO:+0200
END:DAYLIGHT
END:VTIMEZONE
BEGIN:VTIMEZONE
TZID:UTC
BEGIN:STANDARD
DTSTART:20250726T084736Z
TZOFFSETFROM:+0000
TZOFFSETTO:+0000
END:STANDARD
END:VTIMEZONE
BEGIN:VEVENT
UID:20-17
DTSTAMP:20260422T084736Z
SUMMARY:Weihnachtsschwimmfest in Koblenz
LOCATION:Koblenz
ORGANIZER;CN=Vizepräsident Sport:MAILTO:vizepraesident-sport@svrheinland.d
 e
DTSTART;TZID=Europe/Berlin;VALUE=DATE:20231216
DTEND;TZID=Europe/Berlin;VALUE=DATE:20231217
X-ALT-DESC;FMTTYPE=TEXT/HTML:
CATEGORIES:Schwimmen
URL;VALUE=URI:https://svrheinland.de/mc-events/weihnachtsschwimmfest-in-kob
 lenz/
METHOD:PUBLISH
END:VEVENT
END:VCALENDAR